BEGIN:VCALENDAR
VERSION:2.0
PRODID:-//Renaissance des Appellations - ECPv6.15.20//NONSGML v1.0//EN
CALSCALE:GREGORIAN
METHOD:PUBLISH
X-WR-CALNAME:Renaissance des Appellations
X-ORIGINAL-URL:https://renaissance-des-appellations.com
X-WR-CALDESC:Évènements pour Renaissance des Appellations
REFRESH-INTERVAL;VALUE=DURATION:PT1H
X-Robots-Tag:noindex
X-PUBLISHED-TTL:PT1H
BEGIN:VTIMEZONE
TZID:Europe/Paris
BEGIN:DAYLIGHT
TZOFFSETFROM:+0100
TZOFFSETTO:+0200
TZNAME:CEST
DTSTART:20170326T010000
END:DAYLIGHT
BEGIN:STANDARD
TZOFFSETFROM:+0200
TZOFFSETTO:+0100
TZNAME:CET
DTSTART:20171029T010000
END:STANDARD
BEGIN:DAYLIGHT
TZOFFSETFROM:+0100
TZOFFSETTO:+0200
TZNAME:CEST
DTSTART:20180325T010000
END:DAYLIGHT
BEGIN:STANDARD
TZOFFSETFROM:+0200
TZOFFSETTO:+0100
TZNAME:CET
DTSTART:20181028T010000
END:STANDARD
BEGIN:DAYLIGHT
TZOFFSETFROM:+0100
TZOFFSETTO:+0200
TZNAME:CEST
DTSTART:20190331T010000
END:DAYLIGHT
BEGIN:STANDARD
TZOFFSETFROM:+0200
TZOFFSETTO:+0100
TZNAME:CET
DTSTART:20191027T010000
END:STANDARD
END:VTIMEZONE
BEGIN:VEVENT
DTSTART;TZID=Europe/Paris:20181103T093000
DTEND;TZID=Europe/Paris:20181103T190000
DTSTAMP:20260426T052725
CREATED:20180705T083922Z
LAST-MODIFIED:20200302T162403Z
UID:2214-1541237400-1541271600@renaissance-des-appellations.com
SUMMARY:Dégustation en Italie avec les vignerons de Renaissance des Appellations
DESCRIPTION:Degustazione con i vignaioli Renaissance des Appellations\nIl 3 novembre Renaissance sarà a Fornovo di Taro (PR) per una giornata incontro e degustazione con più di 60 vignaioli da tutta Europa. Convegno\, salone dei produttori e MasterClass guidate su terroir d’eccezioni europei. \nRenaissance des Appellations è un’associazione di vignaioli creata nel 2001 da Nicolas Joly\, produttore della storica azienda Coulée de Serrant\, in Loira. Attualmente il gruppo riunisce più di 200 produttori nel mondo\, che lavorano sul terreno comune dell’agricoltura biodinamica. Il gruppo italiano\, fondato da Stefano Bellotti\, riunisce ad oggi 48 aziende\, ognuna interprete della propria storia e del proprio territorio. Obiettivo comune dei membri è garantire la piena espressione delle Denominazioni d’Origine grazie a vini di alta qualità e una grande originalità nel gusto. \nIngresso al salone: 13 euro \nMaggiori informazioni:\nhttp://www.renaissance-italia.it/2018/degustazione-fornovo/\nMasterclass su prenotazione renaissance.italia@yahoo.it\n_________ \nRenaissance des Appellations is a group of biodynamic winegrowers created in 2001 by Nicolas Joly at his historic winery Coulée de Serrant\, in the Loire Valley. It now gathers more than 200 producers all over the world. Renaissance Italia has today 48 members all working respecting their history and territory.\nIt’s purpose is to guaranty the full expression of the Appellations through high quality\, non-standardized wines. \nOn the 3rd of November in Fornovo di Taro (Parma) Renaissance will organize a unique occasion to meet more than 60 producers from all over Europe. A conference\, wine tasting\, wine sale and Masterclasses with the winegrowers of the group. \nInformation and Masterclass reservations: renaissance.italia@yahoo.it \n  \nPiù di 60 cantine presenti / wineries:\nCoulée de Serrant\nAlexandre Bain\nChâteau de la Roche en Loire\nManoir de la Tête Rouge\nDomaine Béatrice et Pascal Lambert\nDomaine Saint Nicolas\nChâteau des Bachelards\nChateau Fonroque\nChâteau de Roquefort\nDomaine de Sulauze\nLes Clos Perdus\nMas del Périé\nCausse Marines\nDomaine MARC TEMPE\nDomaine Valentin Zusslin\nKorenika & Moškon\nGuerila wines\nNikolaihof Wachau\nWeingut Wittmann\nClemens Busch\nRecaredo\nUva de Vida Latitud 40\nCasa de Mouraz\nEmidio Pepe\nForadori\nCascina Degli Ulivi\nTenuta Di Valgiano\nStella di Campalto\nCorte Sant’Alda\nMusella Winery & Relais\nLoacker Wine Estates\nTenute Dettori\nFattoria Di Bacchereto\nDe Fermo Società Agricola\nPorta del Vento\nDenis Montanar\nMonte Dall’Ora\nPodere Casaccia Azienda Agricola Biodinamica\nFattoria Castellina\nLa Visciola\nMontesecondo\nOrsi – Vigneto San Vito\nFattoria Mani di Luna\nTenuta Selvadolce\n1701 Franciacorta\nCosimo Maria Masini\nMonte dei Roari\nFabbrica di San Martino\nVilla Terlina\nPodere La Cerreta Sassetta\nPoggio Trevvalle – Morellino di Scansano\nPodere Concori\nValentina Passalacqua\nFattoria Calcabrina\nPaolo Francesconi\nMacchion dei Lupi\nI Cacciagalli\nAzienda Agricola CampiNuovi\nCol di Corte\nCasa Wallace – B&B e Viticoltura Bio\nCasa Belfi\nsan fereolo\nFattoria Cerreto Libri\nFrancesco Guccione
URL:https://renaissance-des-appellations.com/events/degustation-en-italie/
LOCATION:Fornovo\, Italie\, Fornovo\, Italie
CATEGORIES:Dégustations Renaissance des Appellations,Tastings Return to Terroir,Verkostungen Return to Terroir
ATTACH;FMTTYPE=image/jpeg:https://renaissance-des-appellations.com/wp-content/uploads/2018/07/Locandina-OK-alta.jpg
END:VEVENT
END:VCALENDAR