BEGIN:VCALENDAR
VERSION:2.0
PRODID:-//Renaissance des Appellations - ECPv6.15.20//NONSGML v1.0//EN
CALSCALE:GREGORIAN
METHOD:PUBLISH
X-ORIGINAL-URL:https://renaissance-des-appellations.com
X-WR-CALDESC:Évènements pour Renaissance des Appellations
REFRESH-INTERVAL;VALUE=DURATION:PT1H
X-Robots-Tag:noindex
X-PUBLISHED-TTL:PT1H
BEGIN:VTIMEZONE
TZID:Europe/Paris
BEGIN:DAYLIGHT
TZOFFSETFROM:+0100
TZOFFSETTO:+0200
TZNAME:CEST
DTSTART:20220327T010000
END:DAYLIGHT
BEGIN:STANDARD
TZOFFSETFROM:+0200
TZOFFSETTO:+0100
TZNAME:CET
DTSTART:20221030T010000
END:STANDARD
BEGIN:DAYLIGHT
TZOFFSETFROM:+0100
TZOFFSETTO:+0200
TZNAME:CEST
DTSTART:20230326T010000
END:DAYLIGHT
BEGIN:STANDARD
TZOFFSETFROM:+0200
TZOFFSETTO:+0100
TZNAME:CET
DTSTART:20231029T010000
END:STANDARD
BEGIN:DAYLIGHT
TZOFFSETFROM:+0100
TZOFFSETTO:+0200
TZNAME:CEST
DTSTART:20240331T010000
END:DAYLIGHT
BEGIN:STANDARD
TZOFFSETFROM:+0200
TZOFFSETTO:+0100
TZNAME:CET
DTSTART:20241027T010000
END:STANDARD
END:VTIMEZONE
BEGIN:VEVENT
DTSTART;TZID=Europe/Paris:20230318T120000
DTEND;TZID=Europe/Paris:20230318T190000
DTSTAMP:20260422T211802
CREATED:20230122T215926Z
LAST-MODIFIED:20230122T221518Z
UID:4408-1679140800-1679166000@renaissance-des-appellations.com
SUMMARY:WIR ENTKORKEN DIE PROWEIN 2023
DESCRIPTION:Toutes les infos sont ici / All the information is here / Alle Informationen finden Sie hier. \n\nLa Renaissance 2023 \n\nBiodynamik\, Weinbau für morgen.\n\nLa Renaissance des Appellations ist eine Winzervereinigung\, die vom französischen Winzer Nicolas Joly 2001 gegründet wurde. Sie umfasst heute 230 Landwirte aus 13 verschiedenen Ländern. \n\nDie Mitglieder haben sich dem konsequent naturnahen\, umweltschonenden Weinbau nach ökologischen und/oder biodynamischen Grundsätzen verschrieben. Unter dem Motto “Return to Terroir” hat sich die Gruppe zum Ziel gesetzt\, zunächst den vollen Ausdruck der Appellationen und dann einen Wein von hohem Qualitätsniveau mit großer Originalität zu garantieren. \n  \n\n„BIODYNAMIE – Die Kunst\, Kräfte zu verstehen und zu nutzen\, die der Erde Leben einhauchen.\n\nNur drei bis vier Verkostungen werden jährlich auf der ganzen Welt von Virginie und Nicolas Joly organisiert. Wir sind superstolz\, dass diese sympathische Winzergruppe 2023 wieder den Weg nach Düsseldorf antritt.
URL:https://renaissance-des-appellations.com/events/wir-entkorken-die-prowein-2023/
LOCATION:Düsseldrof
CATEGORIES:Dégustations Renaissance des Appellations,Tastings Return to Terroir,Verkostungen Return to Terroir
ATTACH;FMTTYPE=image/png:https://renaissance-des-appellations.com/wp-content/uploads/2023/01/wine_bottle_header_LR.png
END:VEVENT
END:VCALENDAR